BEGIN:VCALENDAR
VERSION:2.0
PRODID:-//Bernardi Human Resource Law LLP - ECPv6.6.0.2//NONSGML v1.0//EN
CALSCALE:GREGORIAN
METHOD:PUBLISH
X-ORIGINAL-URL:https://hrlawyers.ca
X-WR-CALDESC:Events for Bernardi Human Resource Law LLP
REFRESH-INTERVAL;VALUE=DURATION:PT1H
X-Robots-Tag:noindex
X-PUBLISHED-TTL:PT1H
BEGIN:VTIMEZONE
TZID:UTC
BEGIN:STANDARD
TZOFFSETFROM:+0000
TZOFFSETTO:+0000
TZNAME:UTC
DTSTART:20210101T000000
END:STANDARD
END:VTIMEZONE
BEGIN:VEVENT
DTSTART;TZID=UTC:20240610T093000
DTEND;TZID=UTC:20240620T163000
DTSTAMP:20260426T043259
CREATED:20231124T192208Z
LAST-MODIFIED:20240514T155704Z
UID:6048-1718011800-1718901000@hrlawyers.ca
SUMMARY:Workplace Investigations Training and Certificate Program (FULL)
DESCRIPTION:The Workplace Investigations Training & Certificate Program is an in-depth program that effectively equips participants with the ability to recognize\, investigate and report the findings of complex workplace investigations.\n      \n        Learn more
URL:https://hrlawyers.ca/event/workplace-investigations-training-and-certificate-program-20/
LOCATION:Online
CATEGORIES:Certificate
ORGANIZER;CN="HRPA":MAILTO:professionaldevelopment@hrpa.ca
END:VEVENT
BEGIN:VEVENT
DTSTART;TZID=UTC:20240506T093000
DTEND;TZID=UTC:20240516T163000
DTSTAMP:20260426T043259
CREATED:20231124T191656Z
LAST-MODIFIED:20240422T203044Z
UID:6046-1714987800-1715877000@hrlawyers.ca
SUMMARY:Workplace Investigations Training and Certificate Program (FULL)
DESCRIPTION:The Workplace Investigations Training & Certificate Program is an in-depth program that effectively equips participants with the ability to recognize\, investigate and report the findings of complex workplace investigations.\n      \n        Learn more
URL:https://hrlawyers.ca/event/workplace-investigations-training-and-certificate-program-19/
LOCATION:Online
CATEGORIES:Certificate
ORGANIZER;CN="HRPA":MAILTO:professionaldevelopment@hrpa.ca
END:VEVENT
BEGIN:VEVENT
DTSTART;TZID=UTC:20240408T093000
DTEND;TZID=UTC:20240418T163000
DTSTAMP:20260426T043259
CREATED:20231124T191352Z
LAST-MODIFIED:20240307T214029Z
UID:6044-1712568600-1713457800@hrlawyers.ca
SUMMARY:Workplace Investigations Training and Certificate Program (FULL)
DESCRIPTION:The Workplace Investigations Training & Certificate Program is an in-depth program that effectively equips participants with the ability to recognize\, investigate and report the findings of complex workplace investigations. \nNote: This program offering is currently full. For more information and other date options\, please click the button below.\n\n      \n        Learn more
URL:https://hrlawyers.ca/event/workplace-investigations-training-and-certificate-program-18/
LOCATION:Online
CATEGORIES:Certificate
ORGANIZER;CN="HRPA":MAILTO:professionaldevelopment@hrpa.ca
END:VEVENT
BEGIN:VEVENT
DTSTART;TZID=UTC:20240130T080000
DTEND;TZID=UTC:20240221T170000
DTSTAMP:20260426T043259
CREATED:20230714T202027Z
LAST-MODIFIED:20231016T160259Z
UID:5493-1706601600-1708534800@hrlawyers.ca
SUMMARY:The Osgoode Advanced Certificate in Workplace Investigations
DESCRIPTION:Taught by some of the country’s leading experts\, you will learn how to carry out effective interviews in the most challenging circumstances and write clear and convincing reports.\n\n      \n        Learn more
URL:https://hrlawyers.ca/event/the-osgoode-advanced-certificate-in-workplace-investigations-2/
LOCATION:Online
CATEGORIES:Certificate
ORGANIZER;CN="Osgoode Professional Development":MAILTO:OsgoodePD@osgoode.yorku.ca
END:VEVENT
BEGIN:VEVENT
DTSTART;TZID=UTC:20240115T093000
DTEND;TZID=UTC:20240125T163000
DTSTAMP:20260426T043259
CREATED:20231124T191119Z
LAST-MODIFIED:20231124T191119Z
UID:6041-1705311000-1706200200@hrlawyers.ca
SUMMARY:Workplace Investigations Training and Certificate Program
DESCRIPTION:The Workplace Investigations Training & Certificate Program is an in-depth program that effectively equips participants with the ability to recognize\, investigate and report the findings of complex workplace investigations.\n      \n        Learn more
URL:https://hrlawyers.ca/event/workplace-investigations-training-and-certificate-program-17/
LOCATION:Online
CATEGORIES:Certificate
ORGANIZER;CN="HRPA":MAILTO:professionaldevelopment@hrpa.ca
END:VEVENT
BEGIN:VEVENT
DTSTART;TZID=UTC:20240109T090000
DTEND;TZID=UTC:20240111T160000
DTSTAMP:20260426T043259
CREATED:20220624T205922Z
LAST-MODIFIED:20230919T205121Z
UID:4847-1704790800-1704988800@hrlawyers.ca
SUMMARY:Managing Challenging Situations in the Fire Service: A Certificate Program
DESCRIPTION:Leading in the fire service presents unique challenges. Leaders must balance the trust and camaraderie essential to a strong culture with the challenges of leading effectively. This course will equip leaders in the fire service with the knowledge and skills to conquer workplace challenges and drive positive change. \nThis course is geared to current and aspiring leaders in the fire service including Chiefs\, Deputy Chiefs\, Platoon Chiefs and District Chiefs. \nWho should attend: current and aspiring fire service leaders in career and volunteer departments.  \n\n      \n        Learn More
URL:https://hrlawyers.ca/event/managing-challenging-situations-in-the-fire-service-certificate-program/
LOCATION:In person (GTA)
CATEGORIES:Certificate
ORGANIZER;CN="Bernardi Centre":MAILTO:bernardicentre@hrlawyers.ca
END:VEVENT
BEGIN:VEVENT
DTSTART;TZID=UTC:20231107T090000
DTEND;TZID=UTC:20231128T163000
DTSTAMP:20260426T043259
CREATED:20210729T184617Z
LAST-MODIFIED:20230714T184225Z
UID:4491-1699347600-1701189000@hrlawyers.ca
SUMMARY:The Osgoode Certificate in Workplace Mental Health Law
DESCRIPTION:Designed and taught by legal and mental healthcare experts\, this intensive\, practical Certificate program is ideal for those who seek to better understand the applicable laws bearing on mental health issues in the workplace\, and to make use of the processes and best practices for reducing legal liability\, while creating and maintaining a psychologically safe workplace.\n\n      \n        Learn more
URL:https://hrlawyers.ca/event/the-osgoode-certificate-in-workplace-mental-health-law/
LOCATION:Online
CATEGORIES:Certificate
ORGANIZER;CN="Osgoode Professional Development":MAILTO:OsgoodePD@osgoode.yorku.ca
END:VEVENT
BEGIN:VEVENT
DTSTART;TZID=UTC:20231106T093000
DTEND;TZID=UTC:20231116T163000
DTSTAMP:20260426T043259
CREATED:20230714T174241Z
LAST-MODIFIED:20231031T180845Z
UID:5485-1699263000-1700152200@hrlawyers.ca
SUMMARY:Workplace Investigations Training and Certificate Program (FULL)
DESCRIPTION:The Workplace Investigations Training & Certificate Program is an in-depth program that effectively equips participants with the ability to recognize\, investigate and report the findings of complex workplace investigations. \n\n      \n        Learn more
URL:https://hrlawyers.ca/event/workplace-investigations-training-and-certificate-program-16/
LOCATION:Online
CATEGORIES:Certificate
ORGANIZER;CN="HRPA":MAILTO:professionaldevelopment@hrpa.ca
END:VEVENT
BEGIN:VEVENT
DTSTART;TZID=UTC:20231016T093000
DTEND;TZID=UTC:20231026T163000
DTSTAMP:20260426T043259
CREATED:20230714T173731Z
LAST-MODIFIED:20230714T174342Z
UID:5483-1697448600-1698337800@hrlawyers.ca
SUMMARY:Workplace Investigations Training and Certificate Program
DESCRIPTION:The Workplace Investigations Training & Certificate Program is an in-depth program that effectively equips participants with the ability to recognize\, investigate and report the findings of complex workplace investigations. \n\n      \n        Learn more
URL:https://hrlawyers.ca/event/workplace-investigations-training-and-certificate-program-15/
LOCATION:Online
CATEGORIES:Certificate
ORGANIZER;CN="HRPA":MAILTO:professionaldevelopment@hrpa.ca
END:VEVENT
BEGIN:VEVENT
DTSTART;TZID=UTC:20230911T093000
DTEND;TZID=UTC:20230921T163000
DTSTAMP:20260426T043259
CREATED:20230711T155105Z
LAST-MODIFIED:20230711T155105Z
UID:5473-1694424600-1695313800@hrlawyers.ca
SUMMARY:Workplace Investigations Training and Certificate Program
DESCRIPTION:The Workplace Investigations Training & Certificate Program is an in-depth program that effectively equips participants with the ability to recognize\, investigate and report the findings of complex workplace investigations. \n\n      \n        Learn more
URL:https://hrlawyers.ca/event/workplace-investigations-training-and-certificate-program-14/
LOCATION:Online
CATEGORIES:Certificate
ORGANIZER;CN="HRPA":MAILTO:professionaldevelopment@hrpa.ca
END:VEVENT
BEGIN:VEVENT
DTSTART;TZID=UTC:20230717T093000
DTEND;TZID=UTC:20230727T163000
DTSTAMP:20260426T043259
CREATED:20221118T002907Z
LAST-MODIFIED:20230714T174408Z
UID:5013-1689586200-1690475400@hrlawyers.ca
SUMMARY:Workplace Investigations Training and Certificate Program (FULL)
DESCRIPTION:The Workplace Investigations Training & Certificate Program is an in-depth program that effectively equips participants with the ability to recognize\, investigate and report the findings of complex workplace investigations.\n      \n        Learn more
URL:https://hrlawyers.ca/event/workplace-investigations-training-and-certificate-program-12/
CATEGORIES:Certificate
ORGANIZER;CN="HRPA":MAILTO:professionaldevelopment@hrpa.ca
END:VEVENT
BEGIN:VEVENT
DTSTART;TZID=UTC:20230605T093000
DTEND;TZID=UTC:20230615T160000
DTSTAMP:20260426T043259
CREATED:20221118T002623Z
LAST-MODIFIED:20221118T002623Z
UID:5011-1685957400-1686844800@hrlawyers.ca
SUMMARY:Workplace Investigations Training and Certificate Program
DESCRIPTION:The Workplace Investigations Training & Certificate Program is an in-depth program that effectively equips participants with the ability to recognize\, investigate and report the findings of complex workplace investigations.\n      \n        Learn more
URL:https://hrlawyers.ca/event/workplace-investigations-training-and-certificate-program-11/
CATEGORIES:Certificate
ORGANIZER;CN="HRPA":MAILTO:professionaldevelopment@hrpa.ca
END:VEVENT
BEGIN:VEVENT
DTSTART;TZID=UTC:20230508T093000
DTEND;TZID=UTC:20230518T160000
DTSTAMP:20260426T043259
CREATED:20230317T210839Z
LAST-MODIFIED:20230317T210924Z
UID:5241-1683538200-1684425600@hrlawyers.ca
SUMMARY:Workplace Investigations Training and Certificate Program
DESCRIPTION:The Workplace Investigations Training & Certificate Program is an in-depth program that effectively equips participants with the ability to recognize\, investigate and report the findings of complex workplace investigations. \n      \n        Learn more
URL:https://hrlawyers.ca/event/workplace-investigations-training-and-certificate-program-13/
LOCATION:Online
CATEGORIES:Certificate
ORGANIZER;CN="HRPA":MAILTO:professionaldevelopment@hrpa.ca
END:VEVENT
BEGIN:VEVENT
DTSTART;TZID=UTC:20230417T093000
DTEND;TZID=UTC:20230427T160000
DTSTAMP:20260426T043259
CREATED:20221117T234757Z
LAST-MODIFIED:20230317T210123Z
UID:5009-1681723800-1682611200@hrlawyers.ca
SUMMARY:Workplace Investigations Training and Certificate Program (FULL)
DESCRIPTION:The Workplace Investigations Training & Certificate Program is an in-depth program that effectively equips participants with the ability to recognize\, investigate and report the findings of complex workplace investigations.\n      \n        Learn more
URL:https://hrlawyers.ca/event/workplace-investigations-training-and-certificate-program-10/
CATEGORIES:Certificate
ORGANIZER;CN="HRPA":MAILTO:professionaldevelopment@hrpa.ca
END:VEVENT
BEGIN:VEVENT
DTSTART;TZID=UTC:20230404T090000
DTEND;TZID=UTC:20230404T163000
DTSTAMP:20260426T043259
CREATED:20230322T152237Z
LAST-MODIFIED:20230322T152237Z
UID:5249-1680598800-1680625800@hrlawyers.ca
SUMMARY:Interviewing - Workplace Investigations in Unionized Environments - Certificate in Labour Law
DESCRIPTION:Natasha Savoline will be presenting on Interviewing – Workplace Investigations in Unionized Environments\, as part of the Osgoode Certificate in Labour Law.\n\n      \n        Learn more
URL:https://hrlawyers.ca/event/interviewing-workplace-investigations-in-unionized-environments-certificate-in-labour-law/
LOCATION:Online
CATEGORIES:Certificate
ORGANIZER;CN="Osgoode Professional Development":MAILTO:OsgoodePD@osgoode.yorku.ca
END:VEVENT
BEGIN:VEVENT
DTSTART;TZID=UTC:20230116T093000
DTEND;TZID=UTC:20230126T160000
DTSTAMP:20260426T043259
CREATED:20221117T234517Z
LAST-MODIFIED:20221117T234517Z
UID:5007-1673861400-1674748800@hrlawyers.ca
SUMMARY:Workplace Investigations Training and Certificate Program
DESCRIPTION:The Workplace Investigations Training & Certificate Program is an in-depth program that effectively equips participants with the ability to recognize\, investigate and report the findings of complex workplace investigations.\n      \n        Learn more
URL:https://hrlawyers.ca/event/workplace-investigations-training-and-certificate-program-9/
CATEGORIES:Certificate
ORGANIZER;CN="HRPA":MAILTO:professionaldevelopment@hrpa.ca
END:VEVENT
BEGIN:VEVENT
DTSTART;TZID=UTC:20221128T080000
DTEND;TZID=UTC:20221208T170000
DTSTAMP:20260426T043259
CREATED:20221006T201246Z
LAST-MODIFIED:20221101T202205Z
UID:4961-1669622400-1670518800@hrlawyers.ca
SUMMARY:Workplace Investigations Training and Certificate Program (FULL)
DESCRIPTION:The Workplace Investigations Training & Certificate Program is an in-depth program that effectively equips participants with the ability to recognize\, investigate and report the findings of complex workplace investigations.\n      \n        Learn more
URL:https://hrlawyers.ca/event/workplace-investigations-training-and-certificate-program-6/
CATEGORIES:Certificate
ORGANIZER;CN="HRPA":MAILTO:professionaldevelopment@hrpa.ca
END:VEVENT
BEGIN:VEVENT
DTSTART;TZID=UTC:20221107T093000
DTEND;TZID=UTC:20221117T163000
DTSTAMP:20260426T043259
CREATED:20201215T200146Z
LAST-MODIFIED:20220923T184142Z
UID:4042-1667813400-1668702600@hrlawyers.ca
SUMMARY:Workplace Investigations Training and Certificate Program (FULL)
DESCRIPTION:The Workplace Investigations Training & Certificate Program is an in-depth program that effectively equips participants with the ability to recognize\, investigate and report the findings of complex workplace investigations.\n      \n        Learn more
URL:https://hrlawyers.ca/event/workplace-investigations-training-and-certificate-program-3/
CATEGORIES:Certificate
ORGANIZER;CN="HRPA":MAILTO:professionaldevelopment@hrpa.ca
END:VEVENT
BEGIN:VEVENT
DTSTART;TZID=UTC:20220912T093000
DTEND;TZID=UTC:20220922T163000
DTSTAMP:20260426T043259
CREATED:20201215T200308Z
LAST-MODIFIED:20220307T212858Z
UID:4044-1662975000-1663864200@hrlawyers.ca
SUMMARY:Workplace Investigations Training and Certificate Program
DESCRIPTION:The Workplace Investigations Training & Certificate Program is an in-depth program that effectively equips participants with the ability to recognize\, investigate and report the findings of complex workplace investigations.\n      \n        Learn more
URL:https://hrlawyers.ca/event/workplace-investigations-training-and-certificate-program-4/
CATEGORIES:Certificate
ORGANIZER;CN="HRPA":MAILTO:professionaldevelopment@hrpa.ca
END:VEVENT
BEGIN:VEVENT
DTSTART;TZID=UTC:20220711T093000
DTEND;TZID=UTC:20220721T163000
DTSTAMP:20260426T043259
CREATED:20201215T200511Z
LAST-MODIFIED:20220307T212804Z
UID:4048-1657531800-1658421000@hrlawyers.ca
SUMMARY:Workplace Investigations Training & Certificate Program
DESCRIPTION:The Workplace Investigations Training & Certificate Program is an in-depth program that effectively equips participants with the ability to recognize\, investigate and report the findings of complex workplace investigations.\n      \n        Learn more
URL:https://hrlawyers.ca/event/workplace-investigations-training-certificate-program/
CATEGORIES:Certificate
ORGANIZER;CN="HRPA":MAILTO:professionaldevelopment@hrpa.ca
END:VEVENT
BEGIN:VEVENT
DTSTART;TZID=UTC:20220530T093000
DTEND;TZID=UTC:20220609T163000
DTSTAMP:20260426T043259
CREATED:20201215T200820Z
LAST-MODIFIED:20220307T212557Z
UID:4052-1653903000-1654792200@hrlawyers.ca
SUMMARY:Workplace Investigations Training and Certificate Program
DESCRIPTION:The Workplace Investigations Training & Certificate Program is an in-depth program that effectively equips participants with the ability to recognize\, investigate and report the findings of complex workplace investigations.\n      \n        Learn more
URL:https://hrlawyers.ca/event/workplace-investigations-training-and-certificate-program-7/
CATEGORIES:Certificate
ORGANIZER;CN="HRPA":MAILTO:professionaldevelopment@hrpa.ca
END:VEVENT
BEGIN:VEVENT
DTSTART;TZID=UTC:20220404T093000
DTEND;TZID=UTC:20220414T163000
DTSTAMP:20260426T043259
CREATED:20201215T201103Z
LAST-MODIFIED:20220307T212325Z
UID:4054-1649064600-1649953800@hrlawyers.ca
SUMMARY:Workplace Investigations Training and Certificate Program
DESCRIPTION:The Workplace Investigations Training & Certificate Program is an in-depth program that effectively equips participants with the ability to recognize\, investigate and report the findings of complex workplace investigations.\n      \n        Learn more
URL:https://hrlawyers.ca/event/workplace-investigations-training-and-certificate-program-8/
CATEGORIES:Certificate
ORGANIZER;CN="HRPA":MAILTO:professionaldevelopment@hrpa.ca
END:VEVENT
BEGIN:VEVENT
DTSTART;TZID=UTC:20210614T093000
DTEND;TZID=UTC:20210624T163000
DTSTAMP:20260426T043259
CREATED:20201215T200417Z
LAST-MODIFIED:20210210T171153Z
UID:4046-1623663000-1624552200@hrlawyers.ca
SUMMARY:Workplace Investigations Training and Certificate Program
DESCRIPTION:The Workplace Investigations Training & Certificate Program is an in-depth program that effectively equips participants with the ability to recognize\, investigate and report the findings of complex workplace investigations.\n      \n        Learn more
URL:https://hrlawyers.ca/event/workplace-investigations-training-and-certificate-program-5/
CATEGORIES:Certificate
ORGANIZER;CN="HRPA":MAILTO:professionaldevelopment@hrpa.ca
END:VEVENT
BEGIN:VEVENT
DTSTART;TZID=UTC:20210429T090000
DTEND;TZID=UTC:20210429T163000
DTSTAMP:20260426T043259
CREATED:20201215T162333Z
LAST-MODIFIED:20210414T153029Z
UID:4035-1619686800-1619713800@hrlawyers.ca
SUMMARY:Interviewing - The Osgoode Certificate in Labour Law
DESCRIPTION:This Certificate program provides a rare opportunity to see the big picture and how it applies to frequently-encountered and perennially-vexing situations – ensuring that you are well-equipped to deal with the challenges coming across your desk daily. \n\n      \n        Learn more
URL:https://hrlawyers.ca/event/interviewing-the-osgoode-certificate-in-labour-law/
CATEGORIES:Certificate
ORGANIZER;CN="Osgoode Professional Development":MAILTO:OsgoodePD@osgoode.yorku.ca
END:VEVENT
BEGIN:VEVENT
DTSTART;TZID=UTC:20210308T093000
DTEND;TZID=UTC:20210318T163000
DTSTAMP:20260426T043259
CREATED:20201215T195717Z
LAST-MODIFIED:20210210T170608Z
UID:4039-1615195800-1616085000@hrlawyers.ca
SUMMARY:Workplace Investigations Training and Certificate Program
DESCRIPTION:The Workplace Investigations Training & Certificate Program is an in-depth program that effectively equips participants with the ability to recognize\, investigate and report the findings of complex workplace investigations.\n      \n        Learn more
URL:https://hrlawyers.ca/event/workplace-investigations-training-and-certificate-program-2/
CATEGORIES:Certificate
ORGANIZER;CN="HRPA":MAILTO:professionaldevelopment@hrpa.ca
END:VEVENT
BEGIN:VEVENT
DTSTART;TZID=UTC:20210223T080000
DTEND;TZID=UTC:20210224T170000
DTSTAMP:20260426T043259
CREATED:20201125T233134Z
LAST-MODIFIED:20210729T184824Z
UID:3447-1614067200-1614186000@hrlawyers.ca
SUMMARY:The Osgoode Advanced Certificate in Workplace Investigations
DESCRIPTION:Over 4 intensive online modules\, you will “learn by doing” with lectures\, group discussions\, breakouts and simulated workplace investigation interviews. You will conduct interviews and receive constructive\, practical feedback\, enabling you to sharpen your skills. \n\n      \n        Learn more
URL:https://hrlawyers.ca/event/the-osgoode-advanced-certificate-in-workplace-investigations/
CATEGORIES:Certificate
ORGANIZER;CN="Osgoode Professional Development":MAILTO:OsgoodePD@osgoode.yorku.ca
END:VEVENT
BEGIN:VEVENT
DTSTART;TZID=UTC:20210201T093000
DTEND;TZID=UTC:20210211T163000
DTSTAMP:20260426T043259
CREATED:20201125T233030Z
LAST-MODIFIED:20201215T195830Z
UID:3444-1612171800-1613061000@hrlawyers.ca
SUMMARY:Workplace Investigations Training and Certificate Program
DESCRIPTION:The Workplace Investigations Training & Certificate Program is an in-depth program that effectively equips participants with the ability to recognize\, investigate and report the findings of complex workplace investigations.\n      \n        Learn more
URL:https://hrlawyers.ca/event/workplace-investigations-training-and-certificate-program/
CATEGORIES:Certificate
ORGANIZER;CN="HRPA":MAILTO:professionaldevelopment@hrpa.ca
END:VEVENT
END:VCALENDAR