BEGIN:VCALENDAR
VERSION:2.0
PRODID:-//Bernardi Human Resource Law LLP - ECPv6.6.0.2//NONSGML v1.0//EN
CALSCALE:GREGORIAN
METHOD:PUBLISH
X-WR-CALNAME:Bernardi Human Resource Law LLP
X-ORIGINAL-URL:https://hrlawyers.ca
X-WR-CALDESC:Events for Bernardi Human Resource Law LLP
REFRESH-INTERVAL;VALUE=DURATION:PT1H
X-Robots-Tag:noindex
X-PUBLISHED-TTL:PT1H
BEGIN:VTIMEZONE
TZID:UTC
BEGIN:STANDARD
TZOFFSETFROM:+0000
TZOFFSETTO:+0000
TZNAME:UTC
DTSTART:20250101T000000
END:STANDARD
END:VTIMEZONE
BEGIN:VEVENT
DTSTART;TZID=UTC:20251106T090000
DTEND;TZID=UTC:20251106T143000
DTSTAMP:20260420T033710
CREATED:20250905T153925Z
LAST-MODIFIED:20251104T162708Z
UID:7209-1762419600-1762439400@hrlawyers.ca
SUMMARY:Advanced Report Writing for Workplace Investigations
DESCRIPTION:Pre Requisite: This program is for HR professionals and other internal workplace investigators who have already completed the Workplace Investigations Training and Certificate Program or an equivalent.\nCompleting a workplace investigation is only half the job—how you document and communicate your findings is just as important. Investigation reports serve as critical decision-making tools for internal stakeholders and can face scrutiny from unions\, arbitrators\, and the courts. A poorly written report can weaken a case\, while a well-structured\, clear\, concise\, and legally sound report strengthens credibility and ensures transparency. This advanced workshop equips HR professionals and workplace investigators with the tools and insights needed to write effective\, well-organized\, and defensible investigation reports. Learn how to streamline the process\, assess credibility\, and craft compelling reports that tell a clear and structured story. \nSpeaker: Brian Gottheil \nDate: November 6\, 2025 \nTime: 9:00am – 2:30pm \nRegistration closes: November 5\, 2025 3:00pm \nFor more information: HRPA Advanced Report Writing \n 
URL:https://hrlawyers.ca/event/advanced-report-writing-for-workplace-investigations-2/
LOCATION:Online
CATEGORIES:Workshop
ORGANIZER;CN="HRPA":MAILTO:professionaldevelopment@hrpa.ca
END:VEVENT
BEGIN:VEVENT
DTSTART;TZID=UTC:20251112T090000
DTEND;TZID=UTC:20251112T160000
DTSTAMP:20260420T033710
CREATED:20250905T155320Z
LAST-MODIFIED:20250911T134912Z
UID:7213-1762938000-1762963200@hrlawyers.ca
SUMMARY:LSO Workplace Investigations Summit 2025
DESCRIPTION:The work of workplace investigations is everywhere for legal professionals these days. Whether you advise a party to an investigation or conduct one yourself\, you need a strong grasp of the substantive law related to these events. You also need to know how to respond to procedural issues and ethical challenges that often arise. Join us for this informative program where our presenters dissect the fundamentals of conducting a fair and accurate workplace investigation and give you valuable information on how to follow the right steps in your work in this area. \nCo-Chairs: \nLauren Bernardi\, Bernardi Human Resource Law LLP \nPaul Cassan\, Wishart Law Firm LLP \nDate: November 12\, 2025 \nTime: 9:00am – 4:00pm \nFor more information: Law Society of Ontario Workplace Investigations 2025 \n 
URL:https://hrlawyers.ca/event/lso-workplace-investigations-summit-2025/
LOCATION:Online
CATEGORIES:Webinar
END:VEVENT
BEGIN:VEVENT
DTSTART;TZID=UTC:20251203T093000
DTEND;TZID=UTC:20251203T124500
DTSTAMP:20260420T033710
CREATED:20251006T175720Z
LAST-MODIFIED:20251006T175905Z
UID:7240-1764754200-1764765900@hrlawyers.ca
SUMMARY:Transforming Toxic Teams
DESCRIPTION:Conflict happens. The question is: what comes after? \nJoin us for Transforming Toxic Teams — a practical webinar for HR leaders\, managers\, and legal advisors navigating workplace conflict and harassment. \nWe will explore:\n· Effective assessments to diagnose workplace culture challenges\n· Identifying common barriers to positive workplace cultures\n· A “toxic teams toolkit” of interventions to overcome common barriers\n· Applying the “toolkit” to create restoration plans for complex\, realistic scenarios and case studies \nDetails:\n· Led by experienced lawyer and workplace restoration expert\n· Live on Zoom\n·  HRPA CPD Hours Approved \n\n      \n        Register Now!\n      \n    \n 
URL:https://hrlawyers.ca/event/transforming-toxic-teams/
LOCATION:Online
CATEGORIES:Webinar
ORGANIZER;CN="Bernardi Centre":MAILTO:bernardicentre@hrlawyers.ca
END:VEVENT
BEGIN:VEVENT
DTSTART;TZID=UTC:20260112T093000
DTEND;TZID=UTC:20260122T163000
DTSTAMP:20260420T033710
CREATED:20260107T114522Z
LAST-MODIFIED:20260107T163522Z
UID:7201-1768210200-1769099400@hrlawyers.ca
SUMMARY:Workplace Investigations Training and Certificate Program
DESCRIPTION:This certificate program was developed in collaboration with Human Resources Professionals Association (HRPA)\, this comprehensive program delves into the legal frameworks\, psychological dynamics\, and practical methodologies necessary for conducting impartial and effective workplace investigations. Through interactive online sessions\, case studies\, and hands-on exercises\, participants will gain the confidence and competence to navigate investigations with integrity and precision. \nDates: January 12\, 15\, 19\, 22 2026 \nTime: 9:00am – 4:30pm \nRegistration closes: January 9th 3:00pm \nTraining: 18 CPD; Report: 4 CPD (Subcategory A4. Self-directed Learning) Hour(s) \nFor more information: workplace-investigations
URL:https://hrlawyers.ca/event/workplace-investigations-training-and-certificate-program-january-2026/
LOCATION:Online
CATEGORIES:Certificate
ORGANIZER;CN="HRPA":MAILTO:professionaldevelopment@hrpa.ca
END:VEVENT
BEGIN:VEVENT
DTSTART;TZID=UTC:20260223T090000
DTEND;TZID=UTC:20260305T163000
DTSTAMP:20260420T033710
CREATED:20260107T163934Z
LAST-MODIFIED:20260218T205842Z
UID:7416-1771837200-1772728200@hrlawyers.ca
SUMMARY:Workplace Investigations Training and Certificate Program
DESCRIPTION:This certificate program was developed in collaboration with Human Resources Professionals Association (HRPA). This comprehensive program delves into the legal frameworks\, psychological dynamics\, and practical methodologies necessary for conducting impartial and effective workplace investigations. Through interactive online sessions\, case studies\, and hands-on exercises\, participants will gain the confidence and competence to navigate investigations with integrity and precision. \nDates: February 23\, 26\, March\, 2\, 5 2026 \nTime: 9:00am – 4:30pm \nRegistration closes: February 20th 3:00pm \nTraining: 18 CPD; Report: 4 CPD (Subcategory A4. Self-directed Learning) Hour(s) \nFor more information: workplace-investigations
URL:https://hrlawyers.ca/event/workplace-investigations-training-and-certificate-program-february-2026/
LOCATION:Online
CATEGORIES:Certificate
ORGANIZER;CN="HRPA":MAILTO:professionaldevelopment@hrpa.ca
END:VEVENT
BEGIN:VEVENT
DTSTART;TZID=UTC:20260414T093000
DTEND;TZID=UTC:20260416T163000
DTSTAMP:20260420T033710
CREATED:20260218T205408Z
LAST-MODIFIED:20260224T192026Z
UID:7460-1776159000-1776357000@hrlawyers.ca
SUMMARY:Certificate in Workplace Accommodations Management
DESCRIPTION:This certificate program was developed in collaboration with Human Resources Professionals Association (HRPA). \nHandling workplace accommodations is one of the most challenging and nuanced responsibilities in HR. While legal principles may seem straightforward\, real-world cases often involve complexities\, grey areas\, and unexpected challenges—requiring HR professionals to balance employee needs with operational realities and legal compliance. This interactive certificate program provides HR professionals with the tools\, strategies\, and confidence to manage even the most difficult accommodation cases. Through hands-on activities\, case studies\, and group discussions\, you’ll learn practical approaches to handling accommodations related to physical disabilities\, mental health concerns\, religious practices\, and family obligations. \nWhy This Course Matters for HR Professionals\n\nEnsure Legal Compliance & Reduce Risk – Learn how to fulfill the duty to accommodate while mitigating legal exposure.\nManage Complex & Sensitive Cases – Develop the skills to address challenging accommodation requests with confidence and consistency.\nBalance Employee Needs & Business Operations – Gain strategies to find solutions that work for both employees and employers.\nEngage in Practical\, Hands-On Learning – Work through real-world case studies and group exercises to apply accommodation principles in HR decision-making.\n\n\nDetailed Agenda of the Program\nDay 1: Principles of Accommodation – April 14\, 2026 (9:30 a.m.  – 12:00 p.m. and 2:30 p.m. – 4:30 p.m.) \n\n\nDay 2: Accommodating Disability-Related Needs – April 14\, 2026 (9:30 a.m. – 12:00 p.m. and 2:30 p.m. – 4:30 p.m.) \n\n\nDay 3: Accommodating Creed and Family Status Needs – April 14\, 2026 (9:30 a.m. – 12:00 p.m. and 2:30 p.m. – 4:30 p.m.) \n\n\nRegistration Closes: April 13th  3:00 PM \n\n      \n        Register Now!\n      \n    \n\n\n13.5 CPD Hour(s) \n\nFor more information: HRPA Registration
URL:https://hrlawyers.ca/event/certificate-in-workplace-accommodations-management/
LOCATION:Online
CATEGORIES:Certificate
ORGANIZER;CN="Bernardi Centre":MAILTO:bernardicentre@hrlawyers.ca
END:VEVENT
BEGIN:VEVENT
DTSTART;TZID=UTC:20260421T090000
DTEND;TZID=UTC:20260423T160000
DTSTAMP:20260420T033710
CREATED:20251007T140126Z
LAST-MODIFIED:20260322T222646Z
UID:7231-1776762000-1776960000@hrlawyers.ca
SUMMARY:Investigating Workplace Harassment in Policing
DESCRIPTION:Gain essential skills and knowledge for conducting legally sound\, trauma-informed investigations into workplace harassment and discrimination\, empowering you to uphold justice and fairness in your police service. \nPrice: $2\,925 + HST \nDiscount: Get 10% off if two people from the same service register \n\n      \n        Register Now!\n      \n    \nTo learn more\, contact: bernardicentre@hrlawyers.ca 
URL:https://hrlawyers.ca/event/investigating-workplace-harassment-in-policing/
LOCATION:Online
CATEGORIES:Certificate
ORGANIZER;CN="Bernardi Centre":MAILTO:bernardicentre@hrlawyers.ca
END:VEVENT
BEGIN:VEVENT
DTSTART;TZID=UTC:20260429T120000
DTEND;TZID=UTC:20260429T130000
DTSTAMP:20260420T033710
CREATED:20260415T141811Z
LAST-MODIFIED:20260416T141535Z
UID:7488-1777464000-1777467600@hrlawyers.ca
SUMMARY:Are Your Job Ads Legal in 2026? New Rules\, Risks\, and Obligations *NEW Webinar
DESCRIPTION:Recent changes to Ontario’s Employment Standards Act (ESA) have introduced new requirements for employers involved in hiring. This practical webinar outlines what employers need to know about the changes to the ESA and how to remain compliant. \nDesigned for HR professionals\, business leaders\, and in‑house counsel\, this session will guide you through key obligations for publicly advertised job postings\, including AI disclosure\, compensation transparency\, candidate notifications\, and new responsibilities before an employee’s first day. \nApril 29 | 12:00–1:00 p.m. | virtual and complimentary \nPresented by Rob Richler\, Hazem Mossa\, and Abigail Knubley\n \n\n      \n        Register Now!\n      \n    \nTo learn more\, contact: bernardicentre@hrlawyers.ca
URL:https://hrlawyers.ca/event/are-your-job-ads-legal-in-2026-new-rules-risks-and-obligations-new-webinar/
LOCATION:Online
CATEGORIES:Webinar
ORGANIZER;CN="Bernardi Centre":MAILTO:bernardicentre@hrlawyers.ca
END:VEVENT
BEGIN:VEVENT
DTSTART;TZID=UTC:20260504T093000
DTEND;TZID=UTC:20260514T163000
DTSTAMP:20260420T033710
CREATED:20260416T135827Z
LAST-MODIFIED:20260416T135944Z
UID:7496-1777887000-1778776200@hrlawyers.ca
SUMMARY:Workplace Investigations Training and Certificate Program
DESCRIPTION:This certificate program was developed in collaboration with Human Resources Professionals Association (HRPA). This comprehensive program delves into the legal frameworks\, psychological dynamics\, and practical methodologies necessary for conducting impartial and effective workplace investigations. Through interactive online sessions\, case studies\, and hands-on exercises\, participants will gain the confidence and competence to navigate investigations with integrity and precision. \nDates: May 4\, 7\, 11\, 14\, 2026 \nTime: 9:30am – 4:30pm \nRegistration closes: May 1st 3:30pm \nTraining: 18 CPD; Report: 4 CPD (Subcategory A4. Self-directed Learning) Hour(s) \nFor more information & register please visit: HRPA May Program
URL:https://hrlawyers.ca/event/workplace-investigations-training-and-certificate-program-28/
LOCATION:Online
CATEGORIES:Certificate
ORGANIZER;CN="HRPA":MAILTO:professionaldevelopment@hrpa.ca
END:VEVENT
BEGIN:VEVENT
DTSTART;TZID=UTC:20260601T090000
DTEND;TZID=UTC:20260601T163000
DTSTAMP:20260420T033710
CREATED:20260224T190152Z
LAST-MODIFIED:20260416T133139Z
UID:7466-1780304400-1780331400@hrlawyers.ca
SUMMARY:Emerging Challenges in Workplace Investigations: Credibility\, Reporting\, and the Impact of AI *NEW
DESCRIPTION:This workshop is developed in partnership with Human Resources Professionals Association (HRPA). \nWorkplace investigations are getting ever more complex\, with emerging challenges affecting the investigation landscape. Artificial intelligence is transforming investigation work\, investigation reports come under more scrutiny than ever\, and credibility assessments remain a persistent challenge.   \nKeep your investigation skills current\, learn how to address core challenges\, and ensure your investigations remain strong and legally defensible with this practical\, interactive workshop.  \nLearning Objectives \nCredibility  \n\nUse credibility assessments to get beyond a “he said-she said” and make a finding in every case \n\n\nApply appropriate factors when assessing credibility \n\n\nAssess credibility through a trauma-informed lens \n\nReporting  \n\nCraft strong\, well-supported explanations that hold up under scrutiny to justify legal and factual findings. \n\n\nMake reports Useful to Stakeholders – Write reports that internal decision-makers can act on with confidence.  \n\nArtificial Intelligence  \n\nImplement effective and procedurally fair ways for investigators to use AI to improve investigation efficiency \n\n\nAvoid pitfalls of AI use for investigators \n\n\nAppropriately oversee AI work product \nRecognize and respond to challenges posed by party and witness AI use\, such as falsified documents and images\, and use of AI to generate answers to interview questions \n\n7 CPD Hour(s) \n\n      \n        Register Now!\n      \n    \nFor more information: HRPA Website
URL:https://hrlawyers.ca/event/emerging-challenges-in-workplace-investigations-credibility-reporting-and-the-impact-of-ai-new/
LOCATION:Online
CATEGORIES:Workshop
ORGANIZER;CN="HRPA":MAILTO:professionaldevelopment@hrpa.ca
END:VEVENT
BEGIN:VEVENT
DTSTART;TZID=UTC:20260608T093000
DTEND;TZID=UTC:20260618T163000
DTSTAMP:20260420T033710
CREATED:20260416T133741Z
LAST-MODIFIED:20260416T135441Z
UID:7494-1780911000-1781800200@hrlawyers.ca
SUMMARY:Workplace Investigations Training and Certificate Program
DESCRIPTION:This certificate program was developed in collaboration with Human Resources Professionals Association (HRPA). This comprehensive program delves into the legal frameworks\, psychological dynamics\, and practical methodologies necessary for conducting impartial and effective workplace investigations. Through interactive online sessions\, case studies\, and hands-on exercises\, participants will gain the confidence and competence to navigate investigations with integrity and precision. \nDates: June 8\, 11\, 15\, 18 2026 \nTime: 9:30am – 4:30pm \nRegistration closes: June 5th 3:30pm \nTraining: 18 CPD; Report: 4 CPD (Subcategory A4. Self-directed Learning) Hour(s) \nFor more information & register please visit: HRPA June Program
URL:https://hrlawyers.ca/event/workplace-investigations-training-and-certificate-program-27/
LOCATION:Online
CATEGORIES:Certificate
ORGANIZER;CN="HRPA":MAILTO:professionaldevelopment@hrpa.ca
END:VEVENT
BEGIN:VEVENT
DTSTART;TZID=UTC:20260617T093000
DTEND;TZID=UTC:20260617T124500
DTSTAMP:20260420T033710
CREATED:20260416T142038Z
LAST-MODIFIED:20260416T142038Z
UID:7505-1781688600-1781700300@hrlawyers.ca
SUMMARY:Effectively Resolving Workplace Conflict
DESCRIPTION:When conflicts aren’t addressed\, they fester and grow. Unresolved conflict can also compound other harmful workplace behaviour like incivility\, gossip and cliques. But with many people being naturally conflict-averse\, proactive resolution requires both courage and skill. In this practical webinar for HR leaders and managers\, we will explore: \n– how conflict emerges \n– individual conflict styles and a team’s conflict culture \n– how to effectively lead challenging conversations to address conflicts productively \n– the “interest-based relational” mediation model: a tried and tested method for resolving conflicts while preserving relationships \n– conflict resolution skills: creating psychological safety\, avoiding “blame” and “fault\,” finding shared purpose\, and addressing underlying interests \nEligible for 3 HRPA CPD Hours \n\n      \n        Register Now!\n      \n    \nTo learn more\, contact: bernardicentre@hrlawyers.ca 
URL:https://hrlawyers.ca/event/effectively-resolving-workplace-conflict/
LOCATION:Online
CATEGORIES:Webinar
ORGANIZER;CN="Bernardi Centre":MAILTO:bernardicentre@hrlawyers.ca
END:VEVENT
END:VCALENDAR