BEGIN:VCALENDAR
VERSION:2.0
PRODID:-//Bernardi Human Resource Law LLP - ECPv6.6.0.2//NONSGML v1.0//EN
CALSCALE:GREGORIAN
METHOD:PUBLISH
X-ORIGINAL-URL:https://hrlawyers.ca
X-WR-CALDESC:Events for Bernardi Human Resource Law LLP
REFRESH-INTERVAL;VALUE=DURATION:PT1H
X-Robots-Tag:noindex
X-PUBLISHED-TTL:PT1H
BEGIN:VTIMEZONE
TZID:UTC
BEGIN:STANDARD
TZOFFSETFROM:+0000
TZOFFSETTO:+0000
TZNAME:UTC
DTSTART:20240101T000000
END:STANDARD
END:VTIMEZONE
BEGIN:VEVENT
DTSTART;TZID=UTC:20241107T090000
DTEND;TZID=UTC:20241107T143000
DTSTAMP:20260419T180243
CREATED:20240702T181832Z
LAST-MODIFIED:20240702T185404Z
UID:6578-1730970000-1730989800@hrlawyers.ca
SUMMARY:Advanced Credibility Assessments: Avoiding Common Pitfalls in Workplace Investigations
DESCRIPTION:Assessing parties’ and witnesses’ credibility is one of the most challenging parts of workplace investigations. But it’s an essential skill for your investigations to be robust and legally defensible. In this advanced workshop\, our expert investigators will equip you with the skills to assess credibility and reliability effectively. Among other topics\, we will discuss (and apply\, using complex case studies) factors to use when assessing credibility\, strategies to overcome common pitfalls\, and how to assess credibility through a trauma-informed lens. \n      \n        Learn more
URL:https://hrlawyers.ca/event/advanced-credibility-assessments-avoiding-common-pitfalls-in-workplace-investigations/
LOCATION:Online
CATEGORIES:Workshop
ORGANIZER;CN="HRPA":MAILTO:professionaldevelopment@hrpa.ca
END:VEVENT
BEGIN:VEVENT
DTSTART;TZID=UTC:20241118T093000
DTEND;TZID=UTC:20241128T163000
DTSTAMP:20260419T180243
CREATED:20231124T194119Z
LAST-MODIFIED:20240422T200628Z
UID:6056-1731922200-1732811400@hrlawyers.ca
SUMMARY:Workplace Investigations Training and Certificate Program
DESCRIPTION:The Workplace Investigations Training & Certificate Program is an in-depth program that effectively equips participants with the ability to recognize\, investigate and report the findings of complex workplace investigations.\n      \n        Learn more
URL:https://hrlawyers.ca/event/workplace-investigations-training-and-certificate-program-24/
LOCATION:Online
CATEGORIES:Certificate
ORGANIZER;CN="HRPA":MAILTO:professionaldevelopment@hrpa.ca
END:VEVENT
END:VCALENDAR